BEGIN:VCALENDAR
VERSION:2.0
CALSCALE:GREGORIAN
PRODID:adamgibbons/ics
METHOD:PUBLISH
X-PUBLISHED-TTL:PT1H
BEGIN:VEVENT
UID:243@femcomboi.org
SUMMARY:Collage-Accion. Taller intergeneracional. Macarena Recuerda Shepher
	d - FESTIVAL XALAR 2026
DTSTAMP:20260421T081725Z
DTSTART:20260508T150000Z
DTEND:20260508T162000Z
URL:https://femcomboi.org/event/collage-accion-taller-intergeneracional-mac
	arena-recuerda-shepherd-festival-xalar-2026
LOCATION:IES PERE ENRIC BARREDA I EDO BENASSAL - C. San Isidro\, 2\, 12160 
	Benassal\, Castellón
STATUS:CONFIRMED
CATEGORIES:arts escèniques,Benassal,Festival Xalar,taller
END:VEVENT
BEGIN:VEVENT
UID:244@femcomboi.org
SUMMARY:Trópico- CIA Marroch. Dansa. - FESTIVAL XALAR 2026
DTSTAMP:20260421T081725Z
DTSTART:20260508T170000Z
DTEND:20260508T173500Z
URL:https://femcomboi.org/event/tropico-cia-marroch-dansa-festival-xalar-20
	26
LOCATION:PLAÇA DON BLASCO\, Benassal - Plaça Don Blasco\, Benassal
STATUS:CONFIRMED
CATEGORIES:arts escèniques,Benassal,Dansa,Festival Xalar
END:VEVENT
BEGIN:VEVENT
UID:245@femcomboi.org
SUMMARY:Quería ser maricón pero nací sudaca - Mazorra. Cabaret - FESTIVAL X
	ALAR 2026
DTSTAMP:20260421T081725Z
DTSTART:20260508T183000Z
DTEND:20260508T193000Z
URL:https://femcomboi.org/event/queria-ser-maricon-pero-naci-sudaca-mazorra
	-cabaret-festival-xalar-2026
GEO:40.3805;-0.142463
LOCATION:La mola\, Benassal - Carrer de la Mola\, Benassal
STATUS:CONFIRMED
CATEGORIES:arts escèniques,Benassal,Dansa,Festival Xalar
END:VEVENT
BEGIN:VEVENT
UID:246@femcomboi.org
SUMMARY:Paco Panjabi (professor de ioga). Suso Imbernón. Comèdia. - FESTIVA
	L XALAR 2026
DTSTAMP:20260421T081725Z
DTSTART:20260509T103000Z
DTEND:20260509T113000Z
URL:https://femcomboi.org/event/paco-panjabi-professor-de-ioga-suso-imberno
	n-comedia-festival-xalar-2026
GEO:40.3127;0.0301628
LOCATION:Plaça Major - La Serratella - Plaça Major\, La Serratella
STATUS:CONFIRMED
CATEGORIES:arts escèniques,COMEDIA,Festival Xalar,La Serratella,Teatre
END:VEVENT
BEGIN:VEVENT
UID:247@femcomboi.org
SUMMARY:Las Preciosas Ridículas. Arroz con Costra. Teatre Comèdia. FESTIVAL
	 XALAR 2026
DTSTAMP:20260421T081725Z
DTSTART:20260509T160000Z
DTEND:20260509T171500Z
URL:https://femcomboi.org/event/las-preciosas-ridiculas-arroz-con-costra-te
	atre-comedia-festival-xalar-2026
LOCATION:Poliesportiu\, Albocàsser - Poliesportiu\, Albocàsser
STATUS:CONFIRMED
CATEGORIES:Albocàsser,arts escèniques,COMEDIA,Festival Xalar,Teatre
END:VEVENT
BEGIN:VEVENT
UID:248@femcomboi.org
SUMMARY:Paloma de Parque. Clara Ingold. Monòleg Comèdia. FESTIVAL XALAR 202
	6
DTSTAMP:20260421T081725Z
DTSTART:20260509T193000Z
DTEND:20260509T203000Z
URL:https://femcomboi.org/event/paloma-de-parque-clara-ingold-monoleg-comed
	ia-festival-xalar-2026
LOCATION:Poliesportiu\, Albocàsser - Poliesportiu\, Albocàsser
STATUS:CONFIRMED
CATEGORIES:Albocàsser,COMEDIA,Festival Xalar,Teatre
END:VEVENT
BEGIN:VEVENT
UID:249@femcomboi.org
SUMMARY:Domini Públic. Roger Bernat / FFF. FESTIVAL XALAR 2026
DTSTAMP:20260421T081725Z
DTSTART:20260510T103000Z
DTEND:20260510T113000Z
URL:https://femcomboi.org/event/domini-public-roger-bernat-fff-festival-xal
	ar-2026
GEO:40.3592;-0.0647646
LOCATION:Davant del Bar les Eres\, Vilar de Canes - Carrer de Baix\, 1C\, C
	arrer del Moli\, 4\, 12162 Vilar de Canes\, Castelló
STATUS:CONFIRMED
CATEGORIES:arts escèniques,Festival Xalar,Vilar de Canes
END:VEVENT
END:VCALENDAR
